Workbook
Name Admin_Hse: #REF!
Name Audit: #REF!
Name Bank_Charges: #REF!
Name Board_of_Children: #REF!
Name Board_of_Children: #REF!
Name Board_of_Worship: #REF!
Name Board_of_Worship: #REF!
Name Board_of_Youth: #REF!
Name Board_of_Youth: #REF!
Name Car_Travel: #REF!
Name Church_Van: #REF!
Name Church_Van: #REF!
Name Cleaning_Material: #REF!
Name Compassionate: #REF!
Name Compassionate: #REF!
Name Couples_Fellowship: #REF!
Name Couples_Fellowship: #REF!
Name Equip_Furniture: #REF!
Name Flower: #REF!
Name Flower: #REF!
Name FYP: #REF!
Name FYP: #REF!
Name Generator: #REF!
Name Generator: #REF!
Name Home_Group_Fellowships: #REF!
Name Hospitality: #REF!
Name Housing: #REF!
Name Income: #REF!
Name Income: #REF!
Name Insurances: #REF!
Name Insurances: #REF!
Name IT_Maintenance: #REF!
Name Library: #REF!
Name MAIN: #REF!
Name Mambers_Kitty: #REF!
Name Mambers_Kitty: #REF!
Name Medical: #REF!
Name Members_Kitty: #REF!
Name Members_Kitty: #REF!
Name Mens_Fellowship: #REF!
Name MISSIONARY: #REF!
Name Music: #REF!
Name Music: #REF!
Name NOW: #REF!
Name NOW: #REF!
Name Outlook: #REF!
Name Outlook: #REF!
Name Outreach: #REF!
Name Outreach: #REF!
Name Parking_Creche: #REF!
Name Pastoral_Communication: #REF!
Name Pastoral_Communication: #REF!
Name Pastoral_Emeritus: #REF!
Name Pastoral_Emeritus: #REF!
Name Postage_Tel.: #REF!
Name Printing_Statio.: #REF!
Name Professional_Fee: #REF!
Name Property: #REF!
Name Pulpit: #REF!
Name Pulpit: #REF!

Sheet Global Dashboard
B2: NBC 2022 WORKPLAN IMPLEMENTATION DASHBOARD (SUMMARY) | N2: Date when last updated | O2: 44708
B4: # | C4: DEPARTMENT | D4: PROGRESS | O4: Overall 2022 achievement
B5: 1.0 | C5: NBC Ngong Road | D5: =AVERAGE('NBC NgRd'!D7:D12) -> 0 | O5: =AVERAGE(D5:D13) -> 0.014705882
B6: 2.0 | C6: NBC Kibera | D6: ='NBC Kibera '!P2 -> 0
B7: 3.0 | C7: NBC Ongata Rongai | D7: ='NBC ORongai'!Q2 -> 0
B8: 4.0 | C8: NBC Westlands | D8: ='NBC Westlands'!P2 -> 0
B9: 5.0 | C9: NBC Kikuyu | D9: ='NBC Kikuyu'!P2 -> 0
B10: 6.0 | C10: NBC Kitengela | D10: ='NBC Kitengela'!P4 -> 0
B11: 7.0 | C11: Global Missions & Outreach | D11: ='GMO '!P2 -> 0.13235294 | O11: KEY
B12: 8.0 | C12: Administry | D12: =Administry!N3 -> 0 | O12: Excellent
B13: 9.0 | C13: Leadership Office | D13: =Leadership!P2 -> 0 | O13: Good
O14: Fair
O15: Not so good
O16: Worrying

Sheet NBC NgRd
B3: NBC 2022 WORKPLAN IMPLEMENTATION DASHBOARD | N3: Date when last updated
B6: # | C6: DEPARTMENT | D6: PROGRESS | O6: Overall 2022 achievement
B7: 1.0 | C7: CHILDREN | D7: =Children!P2 -> 0
B8: 2.0 | C8: YOUTH & YOUNG ADULTS | D8: ='Youth&YAd'!P2 -> 0 | O8: =AVERAGE(D7:D18) -> 0
B9: 3.0 | C9: FAMILY CARE | D9: ='Family Care'!P2 -> 0
B10: 4.0 | C10: DISCIPLESHIP | D10: =Discipleship!P2 -> 0
B11: 5.0 | C11: WORSHIP & PRAYER | D11: =Worship!P2 -> 0
B12: 6.0 | C12: MEDIA | D12: =Media!P2 -> 0
O15: KEY
O16: Excellent
O17: Good
O18: Fair
O19: Not so good
O20: Worrying

Sheet Children
B1: WORKPLAN & APPRAISAL TOOL FOR CHILDREN'S MINISTRY: YEAR 2022
O2: Overall achievement | P2: =AVERAGE(P6:P71) -> 0
B3: NAME OF ASSEMBLY/DEPT: | C3: CHILDRENS MINISTRY | E3: NAME: JACQUELINE WASONGA | H3: Qtr of year | L3: Qtr of year | R3: (only for Assembly/departmental workplan)
H4: Planned Implementation | L4: Actual Implementation | P4: Progress | R4: BUDGET | S4: SELF FUNDING | T4: BUDGET Request | V4: NARRATIVE REPORT 2022 | AA4: Appraisal
A5: Goal by 2023 & Target | B5: Outcome(s) | C5: Outcome indicator(s) | D5: BASELINE 2019 | E5: TARGET 2023 | F5: 2022 Activities | G5: TARGET/ INDICATOR | H5: I | I5: II | J5: III | K5: IV | L5: I | M5: II | N5: III | O5: IV | P5: (auto-calculated) | V5: 1ST QUARTER | W5: 2ND QUARTER | X5: 3RD QUARTER | Y5: 4TH QUARTER | AA5: SELF | AB5: SUPERVISOR
A6: There is increased spiritual engagement and expression of regular congregants through worship, prayer and the word; Level of congregants engagement measured as good (from 75% to 85%) | B6: 1.1 Congregants expressing and experiencing Christ-centered, vibrant and relevant worship | C6: Proportion of worship content that is Christ-centered | D6: 0.87 | E6: Keep it at at least 90% | F6: Have the children playing in the band and more visibibility required during the Children Services. | G6: 18 | H6: 6 | I6: 6 | J6: 6 | P6: =(SUM(L6:O6)/SUM(H6:K6)) -> 0 | R6: 180000 | S6: 180000 | T6: =R6-S6 -> 0
F7: Give opportunity to perform more often during Main Services.Memory verses, drama,poems,co service leading…. | G7: 6 | H7: 2 | I7: 2 | K7: 2 | P7: =(SUM(L7:O7)/SUM(H7:K7)) -> 0 | T7: =R7-S7 -> 0
F8: Training of children in drama,poetry and dance in the children's time of worship | G8: 20 | I8: 10 | K8: 10 | P8: =(SUM(L8:O8)/SUM(H8:K8)) -> 0 | R8: 20000 | T8: =R8-S8 -> 20000
F9: HBC IN APRIL | G9: 1 | I9: 1 | P9: =(SUM(L9:O9)/SUM(H9:K9)) -> 0 | R9: 120000 | S9: 50000 | T9: =R9-S9 -> 70000
F10: HBC Childrens December Camp | G10: 1 | K10: 1 | P10: =(SUM(L10:O10)/SUM(H10:K10)) -> 0 | R10: 2000000 | S10: 1200000 | T10: =R10-S10 -> 800000
C11: Level of congregations responsiveness to the worship | D11: 0.63 | E11: Keep it at at least 80% | F11: Lesson based challenges e.g Bible quizzes, radio presentations, skits. | G11: 4 | H11: 1 | I11: 1 | J11: 1 | K11: 1 | P11: =(SUM(L11:O11)/SUM(H11:K11)) -> 0 | R11: 10000 | T11: =R11-S11 -> 10000
F12: Lesson summary by children in various classes-in mime, drama ,song and poetry,games puppets movies. | G12: 4 | H12: 1 | I12: 1 | J12: 1 | K12: 1 | P12: =(SUM(L12:O12)/SUM(H12:K12)) -> 0 | T12: =R12-S12 -> 0
F13: Outreach activity in a designated place-New Hope,St Barnados,Watoto Wema | G13: 2 | I13: 1 | K13: 1 | P13: =(SUM(L13:O13)/SUM(H13:K13)) -> 0 | R13: 50000 | T13: =R13-S13 -> 50000
B14: 1.2 Congregants are increasingly engaged in fervent, continuous prayer empowered by the Holy Spirit | C14: Proportion of people engaged in fervent, continuous prayer | D14: 0.44 | E14: Keep it at at least 70% | F14: Prayer Day for children and teachers (all assemblies) | G14: 1 | H14: 1 | P14: =(SUM(L14:O14)/SUM(H14:K14)) -> 0 | R14: 20000 | T14: =R14-S14 -> 20000
F15: Sunday school stationary (Quarterly reports) | G15: 4 | H15: 1 | I15: 1 | J15: 1 | K15: 1 | P15: =(SUM(L15:O15)/SUM(H15:K15)) -> 0 | R15: 200000 | T15: =R15-S15 -> 200000
F16: photocopying of take home materials (Quarterly reports) | G16: 4 | H16: 1 | I16: 1 | J16: 1 | K16: 1 | P16: =(SUM(L16:O16)/SUM(H16:K16)) -> 0 | R16: 150000 | T16: =R16-S16 -> 150000
C17: # of prayer initiatives currently in place | F17: Prayer chain for teachers | G17: 3 | H17: 1 | J17: 1 | K17: 1 | P17: =(SUM(L17:O17)/SUM(H17:K17)) -> 0 | T17: =R17-S17 -> 0
F18: Prayer Day for ALL CHURCHES | G18: 1 | K18: 1 | P18: =(SUM(L18:O18)/SUM(H18:K18)) -> 0 | T18: =R18-S18 -> 0
B19: 1.3 Congregants are experienceing and responding to Christ-centred and relevent preaching and teaching | C19: Proportion of preaching and teaching that is Christ-like centred and relevant | D19: 0.92 | E19: Keep it at at least 90% | F19: Sunday school themed lessons being taught (Quarterly reports) | G19: 48 | H19: 12 | I19: 12 | J19: 12 | K19: 12 | P19: =(SUM(L19:O19)/SUM(H19:K19)) -> 0 | R19: 10000 | T19: =R19-S19 -> 10000
G20: 2 | H20: 1 | J20: 1 | P20: =(SUM(L20:O20)/SUM(H20:K20)) -> 0 | T20: =R20-S20 -> 0
F21: photocopying of take home materials (Quarterly reports) | G21: 52 | H21: 13 | I21: 13 | J21: 13 | K21: 13 | P21: =(SUM(L21:O21)/SUM(H21:K21)) -> 0 | R21: 500000 | T21: =R21-S21 -> 500000
F22: Teachers refreshments (Quarterly reports) | G22: 52 | H22: 13 | I22: 13 | J22: 13 | K22: 13 | P22: =(SUM(L22:O22)/SUM(H22:K22)) -> 0 | R22: 130000 | T22: =R22-S22 -> 130000
C23: Level of congregation's responsiveness to the preaching and teaching | D23: 0.83 | E23: Keep it at at least 80% | F23: Parenting classes | G23: 3 | H23: 1 | I23: 1 | J23: 1 | P23: =(SUM(L23:O23)/SUM(H23:K23)) -> 0 | R23: 20000 | T23: =R23-S23 -> 20000
F24: Increased child participation in various ministries within the Sunday school. | G24: 48 | H24: 12 | I24: 12 | J24: 12 | K24: 12 | P24: =(SUM(L24:O24)/SUM(H24:K24)) -> 0 | T24: =R24-S24 -> 0
F25: Present a Child led Service periodically in the main Service | G25: 2 | I25: 1 | K25: 1 | P25: =(SUM(L25:O25)/SUM(H25:K25)) -> 0 | R25: 20000 | T25: =R25-S25 -> 20000
B26: 1.4 Congregants encountering quality ministry in every aspect of the worship service | C26: Level of quality in every aspect of the worship service | D26: 0.84 | E26: Keep it at at least 90% | T26: =R26-S26 -> 0
T27: =R27-S27 -> 0
T28: =R28-S28 -> 0
T29: =R29-S29 -> 0
T30: =R30-S30 -> 0
A31: There is increased spiritual maturity of regular congregants through effective discipleship, mentorship and leadership development; At least 50% of regular congregants, at any given time, who understand, communicate and live out the gospel | B31: 2.1 Congregants effectively discipled and discipling others | C31: # of congregants being discipled | D31: 0.5 | E31: 0.6 | F31: Discipleship classes for children. | G31: 4 | H31: 1 | I31: 1 | J31: 1 | K31: 1 | P31: =(SUM(L31:O31)/SUM(H31:K31)) -> 0 | T31: =R31-S31 -> 0
F32: Discipleship sessions for teachers | G32: 4 | H32: 1 | I32: 1 | J32: 1 | K32: 1 | P32: =(SUM(L32:O32)/SUM(H32:K32)) -> 0 | R32: 10000 | T32: =R32-S32 -> 10000
F33: Teachers' retreat | G33: 1 | I33: 1 | P33: =(SUM(L33:O33)/SUM(H33:K33)) -> 0 | R33: 500000 | S33: 100000 | T33: =R33-S33 -> 400000
F34: Teachers refreshments (Quarterly reports) | G34: 52 | H34: 13 | I34: 13 | J34: 13 | K34: 13 | P34: =(SUM(L34:O34)/SUM(H34:K34)) -> 0 | R34: 130000 | T34: =R34-S34 -> 130000
C35: # of congregants discipling others | D35: 0.46 | E35: 0.55 | T35: =R35-S35 -> 0
T36: =R36-S36 -> 0
T37: =R37-S37 -> 0
T38: =R38-S38 -> 0
B39: 2.2 Increased number of persons involved in mentorship programs | C39: # ofpersons involved in mentorship programs - being mentored | D39: 0.29 | E39: 0.4 | T39: =R39-S39 -> 0
T40: =R40-S40 -> 0
...

Sheet Youth&YAd
B1: WORKPLAN & APPRAISAL TOOL FOR YOUTH & YOUNG ADULTS: YEAR 2022
O2: Overall achievement | P2: =AVERAGE(P6:P108) -> 0
B3: NAME OF ASSEMBLY/DEPT: | E3: NAME: | H3: Qtr of year | L3: Qtr of year | R3: (only for Assembly/departmental workplan)
H4: Planned Implementation | L4: Actual Implementation | P4: Progress | R4: BUDGET | S4: SELF FUNDING | T4: BUDGET Request | V4: NARRATIVE REPORT 2022 | AA4: Appraisal
A5: Goal by 2023 & Target | B5: Outcome(s) | C5: Outcome indicator(s) | D5: BASELINE 2019 | E5: TARGET 2023 | F5: 2022 Activities | G5: TARGET/ INDICATOR | H5: I | I5: II | J5: III | K5: IV | L5: I | M5: II | N5: III | O5: IV | P5: (auto-calculated) | V5: 1ST QUARTER | W5: 2ND QUARTER | X5: 3RD QUARTER | Y5: 4TH QUARTER | AA5: SELF | AB5: SUPERVISOR
A6: There is increased spiritual engagement and expression of regular congregants through worship, prayer and the word; Level of congregants engagement measured as good (from 75% to 85%) | B6: 1.1 Congregants expressing and experiencing Christ-centered, vibrant and relevant worship | C6: Proportion of worship content that is Christ-centered | D6: 0.87 | E6: Keep it at at least 90% | F6: Song lists checked for Scriptural soundness | G6: Weekly | H6: 1 | I6: 1 | J6: 1 | K6: 1 | P6: =(SUM(L6:O6)/SUM(H6:K6)) -> 0 | T6: =R6-S6 -> 0
F7: Song lists in line with the sermon series/topic | G7: Weekly | H7: 1 | I7: 1 | J7: 1 | K7: 1 | P7: =(SUM(L7:O7)/SUM(H7:K7)) -> 0 | T7: =R7-S7 -> 0
F8: Evaluate the youth song databaseto determine comformity to Scripture | I8: 1 | K8: 1 | P8: =(SUM(L8:O8)/SUM(H8:K8)) -> 0 | T8: =R8-S8 -> 0
F9: Ensure all worship team members are saved and are growing in the faith | G9: Ongoing | H9: 1 | I9: 1 | J9: 1 | K9: 1 | P9: =(SUM(L9:O9)/SUM(H9:K9)) -> 0 | T9: =R9-S9 -> 0
C10: Level of congregations responsiveness to the worship | D10: 0.63 | E10: Keep it at at least 80% | F10: Recorded song(s) by the Youth Music Team | G10: 1 | J10: 1 | P10: =(SUM(L10:O10)/SUM(H10:K10)) -> 0 | R10: 50000 | T10: =R10-S10 -> 50000
F11: Monthly Holy communion services at NMC | G11: 11 | H11: 1 | I11: 1 | J11: 1 | K11: 1 | P11: =(SUM(L11:O11)/SUM(H11:K11)) -> 0 | T11: =R11-S11 -> 0
F12: A youth worship concert | G12: 1 | I12: 1 | P12: =(SUM(L12:O12)/SUM(H12:K12)) -> 0 | R12: 50000 | T12: =R12-S12 -> 50000
F13: Invite guest music teams | G13: 4 | H13: 1 | I13: 1 | J13: 1 | K13: 1 | P13: =(SUM(L13:O13)/SUM(H13:K13)) -> 0 | R13: 30000 | T13: =R13-S13 -> 30000
F14: Extended worship and prayer every 5th Sunday | G14: 4 | H14: 1 | I14: 1 | J14: 1 | K14: 1 | P14: =(SUM(L14:O14)/SUM(H14:K14)) -> 0 | T14: =R14-S14 -> 0
B15: 1.2 Congregants are increasingly engaged in fervent, continuous prayer empowered by the Holy Spirit | C15: Proportion of people engaged in fervent, continuous prayer | D15: 0.44 | E15: Keep it at at least 70% | F15: Encourage all the youth serving to participate in the church's pre-service prayers | G15: ongoing | H15: 1 | I15: 1 | J15: 1 | K15: 1 | P15: =(SUM(L15:O15)/SUM(H15:K15)) -> 0 | T15: =R15-S15 -> 0
F16: Continue incorporating ACTS model of prayer in the services | G16: 38 | H16: 9 | I16: 10 | J16: 10 | K16: 9 | P16: =(SUM(L16:O16)/SUM(H16:K16)) -> 0 | T16: =R16-S16 -> 0
F17: Young adults prayer meetings at least once a month | G17: 11 | H17: 3 | I17: 3 | J17: 3 | K17: 2 | P17: =(SUM(L17:O17)/SUM(H17:K17)) -> 0 | R17: 30000 | T17: =R17-S17 -> 30000
F18: Mobilise young adults to participate in the church's prayer activities | G18: Services & 3 fasting sessions | H18: 1 | I18: 1 | J18: 1 | K18: 1 | P18: =(SUM(L18:O18)/SUM(H18:K18)) -> 0 | T18: =R18-S18 -> 0
C19: # of prayer initiatives currently in place | F19: Quarterly prayer retreats for youth leaders | G19: 4 | H19: 1 | I19: 1 | J19: 1 | K19: 1 | P19: =(SUM(L19:O19)/SUM(H19:K19)) -> 0 | R19: 20000 | T19: =R19-S19 -> 20000
F20: ACTS prayer model in services | G20: 38 | H20: 9 | I20: 10 | J20: 10 | K20: 9 | P20: =(SUM(L20:O20)/SUM(H20:K20)) -> 0 | T20: =R20-S20 -> 0
T21: =R21-S21 -> 0
T22: =R22-S22 -> 0
B23: 1.3 Congregants are experienceing and responding to Christ-centred and relevent preaching and teaching | C23: Proportion of preaching and teaching that is Christ-like centred and relevant | D23: 0.92 | E23: Keep it at at least 90% | F23: Preparation and execution of preaching plan in line with the annual theme | G23: 1 | H23: 1 | P23: =(SUM(L23:O23)/SUM(H23:K23)) -> 0 | T23: =R23-S23 -> 0
F24: Weekly sermon evaluation | G24: 38 | H24: 9 | I24: 10 | J24: 10 | K24: 9 | P24: =(SUM(L24:O24)/SUM(H24:K24)) -> 0 | T24: =R24-S24 -> 0
F25: Invite external preachers | G25: 4 | H25: 1 | I25: 1 | J25: 1 | K25: 1 | P25: =(SUM(L25:O25)/SUM(H25:K25)) -> 0 | R25: 30000 | T25: =R25-S25 -> 30000
T26: =R26-S26 -> 0
C27: Level of congregation's responsiveness to the preaching and teaching | D27: 0.83 | E27: Keep it at at least 80% | F27: Scripture memorisation in each series | G27: 8 | H27: 2 | I27: 2 | J27: 2 | K27: 2 | P27: =(SUM(L27:O27)/SUM(H27:K27)) -> 0 | T27: =R27-S27 -> 0
F28: Calls to response after preaching | G28: 8 | H28: 2 | I28: 2 | J28: 2 | K28: 2 | P28: =(SUM(L28:O28)/SUM(H28:K28)) -> 0 | T28: =R28-S28 -> 0
T29: =R29-S29 -> 0
T30: =R30-S30 -> 0
B31: 1.4 Congregants encountering quality ministry in every aspect of the worship service | C31: Level of quality in every aspect of the worship service | D31: 0.84 | E31: Keep it at at least 90% | F31: Enhancing the media and digital experience in the services | G31: Ongoing | I31: 1 | K31: 1 | P31: =(SUM(L31:O31)/SUM(H31:K31)) -> 0 | R31: 50000 | T31: =R31-S31 -> 50000
F32: Improve aesthetics through décor | G32: 2 | H32: 1 | K32: 1 | P32: =(SUM(L32:O32)/SUM(H32:K32)) -> 0 | R32: 50000 | T32: =R32-S32 -> 50000
F33: Ushers are punctual and well organised | G33: 38 | H33: 9 | I33: 10 | J33: 10 | K33: 9 | P33: =(SUM(L33:O33)/SUM(H33:K33)) -> 0 | T33: =R33-S33 -> 0
F34: Flow of service created and executed by the service planning team | G34: 38 | H34: 9 | I34: 10 | J34: 10 | K34: 9 | P34: =(SUM(L34:O34)/SUM(H34:K34)) -> 0 | T34: =R34-S34 -> 0
F35: Meet and greet every 5th Sunday (subject to COVID situation) | G35: 3 | H35: 1 | I35: 1 | J35: 1 | P35: =(SUM(L35:O35)/SUM(H35:K35)) -> 0 | R35: 15000 | T35: =R35-S35 -> 15000
F36: Refreshments available every Sunday to foster fellowship (subject to COVID situation) | G36: 19 | J36: 10 | K36: 9 | P36: =(SUM(L36:O36)/SUM(H36:K36)) -> 0 | R36: 50000 | T36: =R36-S36 -> 50000
T37: =R37-S37 -> 0
A38: There is increased spiritual maturity of regular congregants through effective discipleship, mentorship and leadership development; At least 50% of regular congregants, at any given time, who understand, communicate and live out the gospel | B38: 2.1 Congregants effectively discipled and discipling others | C38: # of congregants being discipled | D38: 0.5 | E38: 0.6 | F38: Invite older men and women to attend youth services and activities to foster discipleship relationships | G38: ongoing | H38: 1 | I38: 1 | J38: 1 | K38: 1 | P38: =(SUM(L38:O38)/SUM(H38:K38)) -> 0 | T38: =R38-S38 -> 0
T39: =R39-S39 -> 0
T40: =R40-S40 -> 0
...

Sheet Family Care
B1: WORKPLAN & APPRAISAL TOOL FOR FAMILY CARE: YEAR 2022
O2: Overall achievement | P2: =AVERAGE(P6:P112) -> 0
B3: NAME OF ASSEMBLY/DEPT: | E3: NAME: | H3: Qtr of year | L3: Qtr of year | R3: (only for Assembly/departmental workplan)
H4: Planned Implementation | L4: Actual Implementation | P4: Progress | R4: BUDGET | S4: SELF FUNDING | T4: BUDGET Request | V4: NARRATIVE REPORT 2022 | AA4: Appraisal
A5: Goal by 2023 & Target | B5: Outcome(s) | C5: Outcome indicator(s) | D5: BASELINE 2019 | E5: TARGET 2023 | F5: 2022 Activities | G5: TARGET/ INDICATOR | H5: I | I5: II | J5: III | K5: IV | L5: I | M5: II | N5: III | O5: IV | P5: (auto-calculated) | V5: 1ST QUARTER | W5: 2ND QUARTER | X5: 3RD QUARTER | Y5: 4TH QUARTER | AA5: SELF | AB5: SUPERVISOR
A6: There is increased spiritual engagement and expression of regular congregants through worship, prayer and the word; Level of congregants engagement measured as good (from 75% to 85%) | B6: 1.1 Congregants expressing and experiencing Christ-centered, vibrant and relevant worship | C6: Proportion of worship content that is Christ-centered | D6: 0.87 | E6: Keep it at at least 90%
C10: Level of congregations responsiveness to the worship | D10: 0.63 | E10: Keep it at at least 80%
B14: 1.2 Congregants are increasingly engaged in fervent, continuous prayer empowered by the Holy Spirit | C14: Proportion of people engaged in fervent, continuous prayer | D14: 0.44 | E14: Keep it at at least 70%
C18: # of prayer initiatives currently in place
B22: 1.3 Congregants are experienceing and responding to Christ-centred and relevent preaching and teaching | C22: Proportion of preaching and teaching that is Christ-like centred and relevant | D22: 0.92 | E22: Keep it at at least 90%
C26: Level of congregation's responsiveness to the preaching and teaching | D26: 0.83 | E26: Keep it at at least 80%
B30: 1.4 Congregants encountering quality ministry in every aspect of the worship service | C30: Level of quality in every aspect of the worship service | D30: 0.84 | E30: Keep it at at least 90%
A35: There is increased spiritual maturity of regular congregants through effective discipleship, mentorship and leadership development; At least 50% of regular congregants, at any given time, who understand, communicate and live out the gospel | B35: 2.1 Congregants effectively discipled and discipling others | C35: # of congregants being discipled | D35: 0.5 | E35: 0.6 | F35: Men's Fellowship for support | G35: Once a month | H35: 3 | I35: 3 | J35: 3 | K35: 3 | P35: =(SUM(L35:O35)/SUM(H35:K35)) -> 0 | R35: 142000 | S35: 42000 | T35: =R35-S35 -> 100000
F36: Angaza Fellowship | G36: Once a month | H36: 3 | I36: 3 | J36: 3 | K36: 3 | P36: =(SUM(L36:O36)/SUM(H36:K36)) -> 0 | R36: 220000 | S36: 70000 | T36: =R36-S36 -> 150000
F37: Caleb Generation | G37: Monthly meetings & Bible study | H37: 3 | I37: 3 | J37: 3 | K37: 3 | P37: =(SUM(L37:O37)/SUM(H37:K37)) -> 0 | R37: 60000 | S37: 0 | T37: =R37-S37 -> 60000
F38: Olives Fellowship | G38: Every other month | H38: 1.5 | I38: 1.5 | J38: 1.5 | K38: 1.5 | P38: =(SUM(L38:O38)/SUM(H38:K38)) -> 0 | R38: 50000 | S38: 0 | T38: =R38-S38 -> 50000
F39: Marriage enrichment Fellowship | G39: Every other month | H39: 2 | I39: 1 | J39: 1 | K39: 1 | P39: =(SUM(L39:O39)/SUM(H39:K39)) -> 0 | R39: 127650 | S39: 0 | T39: =R39-S39 -> 127650
F40: Jars of Clay Fellowship | G40: Every other month | H40: 1.5 | I40: 1.5 | J40: 1.5 | K40: 1.5 | P40: =(SUM(L40:O40)/SUM(H40:K40)) -> 0 | R40: 40000 | S40: 0 | T40: =R40-S40 -> 40000
F41: Child Dedication | G41: 1) Parents prepared and children dedicated at least 2 times a year | I41: 1 | K41: 1 | P41: =(SUM(L41:O41)/SUM(H41:K41)) -> 0 | R41: 90000 | S41: 0 | T41: =R41-S41 -> 90000
F42: GOLDS Fellowship | H42: 3 | I42: 3 | J42: 3 | K42: 3 | P42: =(SUM(L42:O42)/SUM(H42:K42)) -> 0 | R42: 60000 | S42: 0 | T42: =R42-S42 -> 60000
F43: Grief Support Ministry (GSM) | G43: 36 Family Visits | H43: 3 | I43: 3 | J43: 3 | K43: 3 | P43: =(SUM(L43:O43)/SUM(H43:K43)) -> 0 | R43: 100000 | S43: 0 | T43: =R43-S43 -> 100000
F44: Counseling Ministry | G44: Training ad debriefing | H44: 1.5 | I44: 1.5 | J44: 1.5 | K44: 1.5 | P44: =(SUM(L44:O44)/SUM(H44:K44)) -> 0 | R44: 60000 | S44: 0 | T44: =R44-S44 -> 60000
F45: Premarital Counseling Classes(PMCC) | G45: Two Pre-marital classes | H45: 1 | J45: 1 | P45: =(SUM(L45:O45)/SUM(H45:K45)) -> 0 | R45: 60000 | S45: 30000 | T45: =R45-S45 -> 30000
C46: # of congregants discipling others | D46: 0.46 | E46: 0.55 | F46: Premarital Counseling follow-up | G46: Two Pre-marital classes and dinner in a year | I46: 1 | K46: 1 | P46: =(SUM(L46:O46)/SUM(H46:K46)) -> 0 | R46: 35000 | S46: 0 | T46: =R46-S46 -> 35000
F47: Wedding Bible purchase | G47: Premarital Counseling follow-up | I47: 1 | K47: 1 | P47: =(SUM(L47:O47)/SUM(H47:K47)) -> 0 | R47: 50000 | S47: 0 | T47: =R47-S47 -> 50000
T48: =R48-S48 -> 0
T49: =R49-S49 -> 0
B50: 2.2 Increased number of persons involved in mentorship programs | C50: # ofpersons involved in mentorship programs - being mentored | D50: 0.29 | E50: 0.4 | F50: 1)Marriage Enrichment Retreats and / or Conferences | G50: 1 couples retreat | J50: 1 | P50: =(SUM(L50:O50)/SUM(H50:K50)) -> 0 | R50: 150000 | S50: 0 | T50: =R50-S50 -> 150000
F51: Create mentorship opportuities through engagement of the older and younger men | G51: Quarterly reports | H51: 1 | I51: 1 | J51: 1 | K51: 1 | P51: =(SUM(L51:O51)/SUM(H51:K51)) -> 0 | R51: 15000 | S51: 15000 | T51: =R51-S51 -> 0
T52: =R52-S52 -> 0
T53: =R53-S53 -> 0
C54: # of persons involved in mentorship others | D54: 0.27 | E54: 0.4 | T54: =R54-S54 -> 0
T55: =R55-S55 -> 0
T56: =R56-S56 -> 0
T57: =R57-S57 -> 0
B58: 2.3 Visible and active leadership development | C58: # of Leadership development initiatives | D58: 86 in diff ministries across assemblies | E58: 100 initiatives | F58: Men's committee retreat | G58: 1 | J58: 1 | P58: =(SUM(L58:O58)/SUM(H58:K58)) -> 0 | R58: 50000 | S58: 0 | T58: =R58-S58 -> 50000
F59: Angaza Fellowship | G59: monthly meetings | H59: 3 | I59: 3 | J59: 3 | K59: 3 | P59: =(SUM(L59:O59)/SUM(H59:K59)) -> 0 | R59: 50000 | S59: 0 | T59: =R59-S59 -> 50000
F60: Grief Support Ministry (GSM) trainings | G60: 2 Trainings per year | H60: 1 | J60: 1 | P60: =(SUM(L60:O60)/SUM(H60:K60)) -> 0 | R60: 24500 | T60: =R60-S60 -> 24500
T61: =R61-S61 -> 0
C62: # of participants in the Leadership development initatives | D62: TBC | F62: # of participants in Men's committee retreat | H62: 1 | J62: 1 | P62: =(SUM(L62:O62)/SUM(H62:K62)) -> 0 | T62: =R62-S62 -> 0
...

Sheet Discipleship
B1: WORKPLAN & APPRAISAL TOOL FOR DISCIPLESHIP: YEAR 2022
O2: Overall achievement | P2: =AVERAGE(P6:P102) -> 0
B3: NAME OF ASSEMBLY/DEPT: | E3: NAME: | H3: Qtr of year | L3: Qtr of year | R3: (only for Assembly/departmental workplan)
H4: Planned Implementation | L4: Actual Implementation | P4: Progress | R4: BUDGET | S4: SELF FUNDING | T4: BUDGET Request | V4: NARRATIVE REPORT 2022 | AA4: Appraisal
A5: Goal by 2023 & Target | B5: Outcome(s) | C5: Outcome indicator(s) | D5: BASELINE 2019 | E5: TARGET 2023 | F5: 2022 Activities | G5: TARGET/ INDICATOR | H5: I | I5: II | J5: III | K5: IV | L5: I | M5: II | N5: III | O5: IV | P5: (auto-calculated) | V5: 1ST QUARTER | W5: 2ND QUARTER | X5: 3RD QUARTER | Y5: 4TH QUARTER | AA5: SELF | AB5: SUPERVISOR
A6: There is increased spiritual engagement and expression of regular congregants through worship, prayer and the word; Level of congregants engagement measured as good (from 75% to 85%) | B6: 1.1 Congregants expressing and experiencing Christ-centered, vibrant and relevant worship | C6: Proportion of worship content that is Christ-centered | D6: 0.87 | E6: Keep it at at least 90% | T6: =R6-S6 -> 0
T7: =R7-S7 -> 0
T8: =R8-S8 -> 0
T9: =R9-S9 -> 0
C10: Level of congregations responsiveness to the worship | D10: 0.63 | E10: Keep it at at least 80% | T10: =R10-S10 -> 0
T11: =R11-S11 -> 0
T12: =R12-S12 -> 0
T13: =R13-S13 -> 0
B14: 1.2 Congregants are increasingly engaged in fervent, continuous prayer empowered by the Holy Spirit | C14: Proportion of people engaged in fervent, continuous prayer | D14: 0.44 | E14: Keep it at at least 70% | T14: =R14-S14 -> 0
T15: =R15-S15 -> 0
T16: =R16-S16 -> 0
T17: =R17-S17 -> 0
C18: # of prayer initiatives currently in place | T18: =R18-S18 -> 0
T19: =R19-S19 -> 0
T20: =R20-S20 -> 0
T21: =R21-S21 -> 0
B22: 1.3 Congregants are experienceing and responding to Christ-centred and relevent preaching and teaching | C22: Proportion of preaching and teaching that is Christ-like centred and relevant | D22: 0.92 | E22: Keep it at at least 90% | T22: =R22-S22 -> 0
T23: =R23-S23 -> 0
T24: =R24-S24 -> 0
T25: =R25-S25 -> 0
C26: Level of congregation's responsiveness to the preaching and teaching | D26: 0.83 | E26: Keep it at at least 80% | F26: Preparing and providing HGF materials to congregants in line with the preaching on a monthly basis | G26: 12 | H26: 1 | I26: 1 | J26: 1 | K26: 1 | P26: =(SUM(L26:O26)/SUM(H26:K26)) -> 0 | R26: 50000 | T26: =R26-S26 -> 50000
T27: =R27-S27 -> 0
T28: =R28-S28 -> 0
T29: =R29-S29 -> 0
B30: 1.4 Congregants encountering quality ministry in every aspect of the worship service | C30: Level of quality in every aspect of the worship service | D30: 0.84 | E30: Keep it at at least 90% | T30: =R30-S30 -> 0
T31: =R31-S31 -> 0
T32: =R32-S32 -> 0
T33: =R33-S33 -> 0
T34: =R34-S34 -> 0
A35: There is increased spiritual maturity of regular congregants through effective discipleship, mentorship and leadership development; At least 50% of regular congregants, at any given time, who understand, communicate and live out the gospel | B35: 2.1 Congregants effectively discipled and discipling others | C35: # of congregants being discipled | D35: 0.5 | E35: 0.6 | F35: Start at least 5 new online groups or Plug in at least 50 people into small groups or HGFs. Report per Q | G35: 4 | H35: 1 | I35: 1 | J35: 1 | K35: 1 | P35: =(SUM(L35:O35)/SUM(H35:K35)) -> 0 | R35: 10000 | T35: =R35-S35 -> 10000
F36: New believers taken through New believers classes. Report per q | G36: 4 | H36: 1 | I36: 1 | J36: 1 | K36: 1 | P36: =(SUM(L36:O36)/SUM(H36:K36)) -> 0 | R36: 30000 | T36: =R36-S36 -> 30000
F37: To conduct at least 2 baptism class sessions | H37: 2 | K37: 2 | P37: =(SUM(L37:O37)/SUM(H37:K37)) -> 0 | R37: 10000 | T37: =R37-S37 -> 10000
F38: Have Follow up with visitors on a weekly basis and plug in those who want to be regulars on visitors sessions sessions | G38: 12 | H38: 3 | I38: 3 | J38: 3 | K38: 3 | P38: =(SUM(L38:O38)/SUM(H38:K38)) -> 0 | R38: 30000 | T38: =R38-S38 -> 30000
C39: # of congregants discipling others | D39: 0.46 | E39: 0.55 | F39: Follow up on disciplers for equipping, accountabbility and fellowship (3 joint fellowships per year) | G39: 3 | H39: 1 | J39: 1 | K39: 1 | P39: =(SUM(L39:O39)/SUM(H39:K39)) -> 0 | R39: 50000 | T39: =R39-S39 -> 50000
F40: Equip new possible disciplers on intentional evangelism and discipleship | G40: 2 | I40: 1 | J40: 1 | P40: =(SUM(L40:O40)/SUM(H40:K40)) -> 0 | R40: 40000 | T40: =R40-S40 -> 40000
...

Sheet Worship
C1: WORKPLAN & APPRAISAL TOOL FOR WORSHIP PRAYER & TEACHING: YEAR 2022
O2: Overall achievement | P2: =AVERAGE(P6:P121) -> 0
A3: NAME OF ASSEMBLY/DEPT: | C3: NG. RD Worship, Prayer & Ushers | F3: NAME: Melina Kemboi | H3: Qtr of year | L3: Qtr of year | R3: (only for Assembly/departmental workplan)
H4: Planned Implementation | L4: Actual Implementation | P4: Progress | R4: BUDGET | S4: SELF FUNDING | T4: BUDGET Request | V4: NARRATIVE REPORT 2022 | AA4: Appraisal
A5: Goal by 2023 & Target | B5: Outcome(s) | C5: Outcome indicator(s) | D5: BASELINE 2019 | E5: TARGET 2023 | F5: 2021 Activities | G5: TARGET/ INDICATOR | H5: I | I5: II | J5: III | K5: IV | L5: I | M5: II | N5: III | O5: IV | P5: (auto-calculated) | V5: 1ST QUARTER | W5: 2ND QUARTER | X5: 3RD QUARTER | Y5: 4TH QUARTER | AA5: SELF | AB5: SUPERVISOR
A6: There is increased spiritual engagement and expression of regular congregants through worship, prayer and the word; Level of congregants engagement measured as good (from 75% to 85%) | B6: 1.1 Congregants expressing and experiencing Christ-centered, vibrant and relevant worship | C6: Proportion of worship content that is Christ-centered | D6: 0.87 | E6: Keep it at at least 90% | F6: 1) Maintain an updated online music folder for worship teams. (To report per q) | G6: 4 | H6: 1 | I6: 1 | J6: 1 | K6: 1 | P6: =(SUM(L6:O6)/SUM(H6:K6)) -> 0 | R6: 0 | T6: =R6-S6 -> 0
F7: 2) Send the preaching plan in advance so that the team can plan for songs in line with the sermon series. | G7: 4 | H7: 1 | I7: 1 | J7: 1 | K7: 1 | P7: =(SUM(L7:O7)/SUM(H7:K7)) -> 0
F8: 3)Share new Biblically sound songs that can be done within a sermon series Share these with team on whatsapp. | G8: 4 | H8: 1 | I8: 1 | J8: 1 | K8: 1 | P8: =(SUM(L8:O8)/SUM(H8:K8)) -> 0 | R8: 0 | T8: =R8-S8 -> 0
F9: 3)Weekly Pre-view & Review of songlists- support in music selection and processing of song lists with media team for services each week. | G9: 52 | H9: 13 | I9: 13 | J9: 13 | K9: 13 | P9: =(SUM(L9:O9)/SUM(H9:K9)) -> 0 | R9: 0 | T9: =R9-S9 -> 0
F10: 4) Training & mentorship of all song leaders in songlist development (& response songs)- each team | G10: 4 | H10: 1 | I10: 1 | J10: 1 | K10: 1 | P10: =(SUM(L10:O10)/SUM(H10:K10)) -> 0 | R10: 0 | T10: =R10-S10 -> 0
F11: 5) Discuss scripture of the week in relation to the song list before practise | G11: 52 Sundays | H11: 13 | I11: 13 | J11: 13 | K11: 13 | P11: =(SUM(L11:O11)/SUM(H11:K11)) -> 0 | R11: 0 | T11: =R11-S11 -> 0
F12: 6) Song-writing challenge- teams to develop 2 songs that are Christ centred, record & upload on youtube | G12: 2 | K12: 3 | P12: =(SUM(L12:O12)/SUM(H12:K12)) -> 0 | R12: 50000 | T12: =R12-S12 -> 50000
C13: Level of congregations responsiveness to the worship | D13: 0.63 | E13: Keep it at at least 80% | F13: 1) Teams to encourage congregation to respond during worship (lift hands, bow, pray, kneel, reflect etc) | G13: 100% of the time | H13: 1 | I13: 1 | J13: 1 | K13: 1 | P13: =(SUM(L13:O13)/SUM(H13:K13)) -> 0 | R13: 0 | T13: =R13-S13 -> 0
F14: 2) Share new songs, re-mixes of songs & beautiful arrangements of songs on the worship leaders social media platforms- at least once per quarter | G14: 4 | H14: 1 | I14: 1 | J14: 1 | K14: 1 | P14: =(SUM(L14:O14)/SUM(H14:K14)) -> 0 | R14: 0 | T14: =R14-S14 -> 0
F15: 3) Teach the congregation (Sermons on worship/ Prayer each 5th Sunday) | G15: 3 | I15: 1 | J15: 1 | K15: 1 | P15: =(SUM(L15:O15)/SUM(H15:K15)) -> 0 | R15: 0 | T15: =R15-S15 -> 0
F16: 4a) Use rich/ diverse expressions of worship- 2 creative outputs a year e.g. Concerts, productions, film fest, online song medleys, online talk shows- at least twice a year | G16: 2 | I16: 1 | K16: 1 | P16: =(SUM(L16:O16)/SUM(H16:K16)) -> 0 | R16: 70000 | T16: 70000
F17: 5) Teams lead at specific NBC events when possible (e.g. conference, funerals, weddings etc); report per Q | G17: 4 | H17: 1 | I17: 1 | J17: 1 | K17: 1 | P17: =(SUM(L17:O17)/SUM(H17:K17)) -> 0 | R17: 10000 | T17: 10000
B18: 1.2 Congregants are increasingly engaged in fervent, continuous prayer empowered by the Holy Spirit | C18: Proportion of people engaged in fervent, continuous prayer | D18: 0.44 | E18: Keep it at at least 70% | F18: 1) Mobilize, through announcements, for prayer service & prayer events (pre-service, morning/ Evening of prayer, keshas etc). Report per Q. | G18: 4 | H18: 1 | I18: 1 | J18: 1 | K18: 1 | P18: =(SUM(L18:O18)/SUM(H18:K18)) -> 0 | T18: =R18-S18 -> 0
F19: 2) Teach the congregation on Prayer (series)- Thursdays or Sunday (Pair with a month that has a 5th Sunday if possible)- To be approved by SMT | G19: 1 | K19: 1 | P19: =(SUM(L19:O19)/SUM(H19:K19)) -> 0 | R19: 0 | T19: =R19-S19 -> 0
F20: 3) Build a Prayer team of at least 100 that pray for the church & beyond on Thursdays and Sundays and individually through the week. | G20: 1 | I20: 1 | P20: =(SUM(L20:O20)/SUM(H20:K20)) -> 0 | R20: 0 | T20: =R20-S20 -> 0
F21: 4) Follow up of prayer team members by prayer leadership team (e.g. keep register of attendance during team activities & follow up those absent)- Report per q | G21: 4 | H21: 1 | I21: 1 | J21: 1 | K21: 1 | P21: =(SUM(L21:O21)/SUM(H21:K21)) -> 0 | R21: 4000 | T21: =R21-S21 -> 4000
F22: 4) The music team to have a time of prayer within the teams each week. | G22: 52 | H22: 13 | I22: 13 | J22: 13 | K22: 13 | P22: =(SUM(L22:O22)/SUM(H22:K22)) -> 0 | R22: 0 | T22: =R22-S22 -> 0
C23: # of prayer initiatives currently in place | F23: 1) Prayer/ Worship experience services during Sunday services (every 5th Sunday) or at least 3 times a year | G23: 3 | I23: 1 | J23: 1 | K23: 1 | P23: =(SUM(L23:O23)/SUM(H23:K23)) -> 0 | R23: 0 | T23: =R23-S23 -> 0
F24: 2) Weekly Thursday Prayer service. Plan & prepare for the service. Bi-monthly service schedule (every 2 months). Have a mix of staff and non- staff leaders leading the service. | G24: 6 | H24: 2 | I24: 2 | J24: 1 | K24: 1 | P24: =(SUM(L24:O24)/SUM(H24:K24)) -> 0 | R24: 0 | T24: =R24-S24 -> 0
F25: 3) Ensure Prayer service sermon series are prepared in advance (liase with various Pastoral team members in the development of varied series). Every 2 months. | G25: 6 | H25: 2 | I25: 2 | J25: 1 | K25: 1 | P25: =(SUM(L25:O25)/SUM(H25:K25)) -> 0
F26: 4) Prayer & worship experience services during the Thursday service (twice a year) | G26: 2 | I26: 1 | K26: 1 | P26: =(SUM(L26:O26)/SUM(H26:K26)) -> 0 | R26: 0 | T26: =R26-S26 -> 0
F27: 5) Thursday Testimony services ( 3 times a year) | G27: 3 | I27: 1 | J27: 1 | K27: 1 | P27: =(SUM(L27:O27)/SUM(H27:K27)) -> 0 | R27: 0 | T27: =R27-S27 -> 0
F28: 6) Pre-service prayers every Sunday & Thursday open to the congregation; report per q | G28: 3 | H28: 1 | I28: 1 | J28: 1 | K28: 1 | P28: =(SUM(L28:O28)/SUM(H28:K28)) -> 0 | R28: 0 | T28: =R28-S28 -> 0
F29: 7) Monthly prayer bulletin developed by prayer team & shared in the church networks (With the exception of January). | G29: 11 | H29: 2 | I29: 3 | J29: 3 | K29: 3 | P29: =(SUM(L29:O29)/SUM(H29:K29)) -> 0
F30: 8) Prayer & Fasting week (3 times a year) including two prayer chains a year. | G30: 5 | H30: 1 | J30: 2 | K30: 2 | P30: =(SUM(L30:O30)/SUM(H30:K30)) -> 0 | R30: 0 | T30: =R30-S30 -> 0
F31: 9)Monthly prayer meetings for all intercessors (Every First Friday)- With the exception of January and the months with day prayer retreats. (2 of these should be training sessions) | G31: 9 | H31: 2 | I31: 3 | J31: 2 | K31: 2 | P31: =(SUM(L31:O31)/SUM(H31:K31)) -> 0
F32: 10) Ministry prayer day each week- where intercessors pray for ministries once a week (Report per q) | G32: 4 | H32: 1 | I32: 1 | J32: 1 | K32: 1 | P32: =(SUM(L32:O32)/SUM(H32:K32)) -> 0
F33: 11) 2 Prayer meetings open to the entire Church (e.g. kesha, mini-kesha, morning/ evening/ day of prayer)- either organised by assembly team or liase with global team | G33: 2 | I33: 1 | K33: 1 | P33: =(SUM(L33:O33)/SUM(H33:K33)) -> 0 | R33: 160000 | T33: =R33-S33 -> 160000
F34: 12) Prayer retreat for intercessors (Include training with internal & external speakers) | G34: 2 | I34: 1 | K34: 1 | P34: =(SUM(L34:O34)/SUM(H34:K34)) -> 0 | R34: 50000 | S34: 20000 | T34: 30000
F35: 13) Weekly staff prayer chain, send reminders and prayer items. Report per q | G35: 4 | H35: 1 | I35: 1 | J35: 1 | K35: 1 | P35: =(SUM(L35:O35)/SUM(H35:K35)) -> 0 | R35: 0 | T35: =R35-S35 -> 0
F36: 14) Extended Ngong road staff prayer (three times a year)- Liase with Chaplaincy | G36: 3 | I36: 1 | J36: 1 | K36: 1 | P36: =(SUM(L36:O36)/SUM(H36:K36)) -> 0 | R36: 0 | T36: =R36-S36 -> 0
F37: 1) Evaluation of preaching (using evaluation form & discussions) with the aim of sharpening the preachers- staff & non: staff (report once per quarter) | G37: 4 | H37: 1 | I37: 1 | J37: 1 | K37: 1 | P37: =(SUM(L37:O37)/SUM(H37:K37)) -> 0 | R37: 0 | T37: =R37-S37 -> 0
F38: 2) Evaluation of preaching (during service planning). Discussions to help the preachers grow. | G38: 4 | H38: 1 | I38: 1 | J38: 1 | K38: 1 | P38: =(SUM(L38:O38)/SUM(H38:K38)) -> 0 | R38: 0 | T38: =R38-S38 -> 0
C39: Level of congregation's responsiveness to the preaching and teaching | D39: 0.83 | E39: Keep it at at least 80% | F39: 1) Encourage speakers to suggest songs & to communicate their sermon direction for planning the response section of the service. | G39: 4 | H39: 1 | I39: 1 | J39: 1 | K39: 1 | P39: =(SUM(L39:O39)/SUM(H39:K39)) -> 0 | R39: 0 | T39: =R39-S39 -> 0
F40: 2) Sermon Series- pre- Planning & post-series evaluation (series Crafting team)- Meet every month | G40: 12 | H40: 1 | I40: 1 | J40: 1 | K40: 1 | P40: =(SUM(L40:O40)/SUM(H40:K40)) -> 0 | R40: 0 | T40: =R40-S40 -> 0
...

Sheet Media
C1: WORKPLAN & APPRAISAL TOOL FOR MEDIA MINISTRY: YEAR 2022
O2: Overall achievement | P2: =AVERAGE(P6:P112) -> 0
A3: NAME OF ASSEMBLY/DEPT: | C3: NG. RD MEDIA | E3: NAME: | H3: Qtr of year | L3: Qtr of year | R3: (only for Assembly/departmental workplan)
H4: Planned Implementation | L4: Actual Implementation | P4: Progress | R4: BUDGET | S4: SELF FUNDING | T4: BUDGET Request | V4: NARRATIVE REPORT 2022 | AA4: Appraisal
A5: Goal by 2023 & Target | B5: Outcome(s) | C5: Outcome indicator(s) | D5: BASELINE 2019 | E5: TARGET 2023 | F5: 2022 Activities | G5: TARGET/ INDICATOR | H5: I | I5: II | J5: III | K5: IV | L5: I | M5: II | N5: III | O5: IV | P5: (auto-calculated) | V5: 1ST QUARTER | W5: 2ND QUARTER | X5: 3RD QUARTER | Y5: 4TH QUARTER | AA5: SELF | AB5: SUPERVISOR
A6: There is increased spiritual engagement and expression of regular congregants through worship, prayer and the word; Level of congregants engagement measured as good (from 75% to 85%) | B6: 1.1 Congregants expressing and experiencing Christ-centered, vibrant and relevant worship | C6: Proportion of worship content that is Christ-centered | D6: 0.87 | E6: Keep it at at least 90%
C10: Level of congregations responsiveness to the worship | D10: 0.63 | E10: Keep it at at least 80%
B14: 1.2 Congregants are increasingly engaged in fervent, continuous prayer empowered by the Holy Spirit | C14: Proportion of people engaged in fervent, continuous prayer | D14: 0.44 | E14: Keep it at at least 70%
C18: # of prayer initiatives currently in place
B22: 1.3 Congregants are experienceing and responding to Christ-centred and relevent preaching and teaching | C22: Proportion of preaching and teaching that is Christ-like centred and relevant | D22: 0.92 | E22: Keep it at at least 90%
C26: Level of congregation's responsiveness to the preaching and teaching | D26: 0.83 | E26: Keep it at at least 80%
B30: 1.4 Congregants encountering quality ministry in every aspect of the worship service | C30: Level of quality in every aspect of the worship service | D30: 0.84 | E30: Keep it at at least 90% | F30: Ensure quality media support for an uniterrupted worship experience by congregants (Software Plugins Purchased) | G30: 2 | H30: 1 | J30: 1 | P30: =(SUM(L30:O30)/SUM(H30:K30)) -> 0 | R30: 40000 | S30: 0 | T30: =R30-S30 -> 40000
F31: Creative production of Weekly Highlights | G31: 52 | H31: 13 | I31: 13 | J31: 13 | K31: 13 | P31: =(SUM(L31:O31)/SUM(H31:K31)) -> 0 | R31: 30000 | T31: =R31-S31 -> 30000
F32: Church services are recorded in various media | G32: 260 | H32: 65 | I32: 65 | J32: 65 | K32: 65 | P32: =(SUM(L32:O32)/SUM(H32:K32)) -> 0 | R32: 200000 | S32: 100000 | T32: =R32-S32 -> 100000
F33: Thematic Banners For the Year Produced; Support printing of design for assemblies (Print budget in respective assembly) | G33: 1 | H33: 1 | P33: =(SUM(L33:O33)/SUM(H33:K33)) -> 0 | R33: 180000 | T33: =R33-S33 -> 180000
A35: There is increased spiritual maturity of regular congregants through effective discipleship, mentorship and leadership development; At least 50% of regular congregants, at any given time, who understand, communicate and live out the gospel | B35: 2.1 Congregants effectively discipled and discipling others | C35: # of congregants being discipled | D35: 0.5 | E35: 0.6
T38: =R38-S38 -> 0
C39: # of congregants discipling others | D39: 0.46 | E39: 0.55 | T39: =R39-S39 -> 0
T40: =R40-S40 -> 0
T42: =R42-S42 -> 0
B43: 2.2 Increased number of persons involved in mentorship programs | C43: # ofpersons involved in mentorship programs - being mentored | D43: 0.29 | E43: 0.4 | T43: =R43-S43 -> 0
C47: # of persons involved in mentorship others | D47: 0.27 | E47: 0.4
B51: 2.3 Visible and active leadership development | C51: # of Leadership development initiatives | D51: 86 in diff ministries across assemblies | E51: 100 initiatives | F51: Monthly fellowships & devotions | G51: 12 | H51: 3 | I51: 3 | J51: 3 | K51: 3 | P51: =(SUM(L51:O51)/SUM(H51:K51)) -> 0 | R51: 40000 | T51: =R51-S51 -> 40000
F52: Sauti School training held | G52: 2 | I52: 1 | K52: 1 | P52: =(SUM(L52:O52)/SUM(H52:K52)) -> 0 | R52: 90000 | S52: 50000 | T52: =R52-S52 -> 40000
F53: Sauti Master Classes held | G53: 4 | H53: 1 | I53: 1 | J53: 1 | K53: 1 | P53: =(SUM(L53:O53)/SUM(H53:K53)) -> 0 | R53: 40000 | S53: 10000 | T53: =R53-S53 -> 30000
F54: Sauti ToT Training/Workshop | G54: 1 | H54: 1 | P54: =(SUM(L54:O54)/SUM(H54:K54)) -> 0 | R54: 25000 | T54: =R54-S54 -> 25000
F55: Writers Training | G55: 2 | I55: 1 | K55: 1 | P55: =(SUM(L55:O55)/SUM(H55:K55)) -> 0 | R55: 30000 | T55: =R55-S55 -> 30000
C56: # of participants in the Leadership development initatives | D56: TBC | F56: Report on # of participants in Monthly fellowships & devotions | G56: 4 | H56: 1 | I56: 1 | J56: 1 | K56: 1 | P56: =(SUM(L56:O56)/SUM(H56:K56)) -> 0
F57: Report on # of participants in Sauti School training held | G57: 1 | I57: 1 | P57: =(SUM(L57:O57)/SUM(H57:K57)) -> 0
F58: Report on # of participants in Sauti Master Classes held | G58: 4 | H58: 1 | I58: 1 | J58: 1 | K58: 1 | P58: =(SUM(L58:O58)/SUM(H58:K58)) -> 0
F59: Report on # of participants in Sauti ToT Training/Workshop | G59: 1 | H59: 1 | P59: =(SUM(L59:O59)/SUM(H59:K59)) -> 0
F60: Report on # of participants in Writers Training | G60: 2 | I60: 2 | K60: 2 | P60: =(SUM(L60:O60)/SUM(H60:K60)) -> 0
B61: 2.4 Visible and active fellowship oriented forums | C61: Level of involvement/Participation in fellowship/care ministries | D61: 0.12 | E61: 0.4
A66: Regular congregants are participating in holistic outreach, evangelism and viable Church Planting; At least 60% of regular congregants participating; and 2 churches planted | B66: 3.1 An equipped congregation that is actively and effectively engaged in holistic outreach. | C66: Proportion of congregants who are enthusiastically and consistently involved in holistic outreach. | D66: 0.22 | E66: 0.55 | T66: =R66-S66 -> 0
T67: =R67-S67 -> 0
B70: 3.2 An equipped congregation that is actively and effectively engaged in evangelism. | C70: Proportion of congregants who are enthusiastically and consistently sharing the gospel of Christ. | D70: 0.45 | E70: 0.65 | F70: Movie Fridays Running; report on attendance, sharing of the gospel and how many received Christ | G70: 4 | H70: 1 | I70: 1 | J70: 1 | K70: 1 | P70: =(SUM(L70:O70)/SUM(H70:K70)) -> 0 | R70: 45000 | S70: 25000 | T70: =R70-S70 -> 20000
T71: =R71-S71 -> 0
B73: 3.3 Planted and established vibrant, Christ centered churces that are advancing the Kingdom of God. | C73: # of congregations planted and established. | D73: 3 | E73: 5
C77: # of strucutred ministries established in the church plants (Limited to the church plants including Children incl ROPES, youth, young adults and the fellowship/care ministries) | D77: 28 | E77: 35
A82: Children, Youth, and Young Adults are actively and variously engaged in influencing the world around them by living out and sharing their Christian testimony; At least 50% of Children, youth and young adults | B82: 4.1 Children actively living out and sharing their Christian testimony | C82: % of children living out and sharing their Christian testimony (home, school, play arenas etc) | D82: 0.49 | E82: 0.6
...

Sheet NBC Kibera 
B1: WORKPLAN & APPRAISAL TOOL FOR NBC KIBERA: YEAR 2022
O2: Overall achievement | P2: =AVERAGE(P6:P96) -> 0
B3: NAME OF ASSEMBLY/DEPT: | E3: NAME: | H3: Qtr of year | L3: Qtr of year | R3: (only for Assembly/departmental workplan)
H4: Planned Implementation | L4: Actual Implementation | P4: Progress | R4: BUDGET | S4: SELF FUNDING | T4: BUDGET Request | V4: NARRATIVE REPORT 2022 | AA4: Appraisal
A5: Goal by 2023 & Target | B5: Outcome(s) | C5: Outcome indicator(s) | D5: BASELINE 2019 | E5: TARGET 2023 | F5: 2022 Activities | G5: TARGET/ INDICATOR | H5: I | I5: II | J5: III | K5: IV | L5: I | M5: II | N5: III | O5: IV | P5: (auto-calculated) | V5: 1ST QUARTER | W5: 2ND QUARTER | X5: 3RD QUARTER | Y5: 4TH QUARTER | AA5: SELF | AB5: SUPERVISOR
A6: There is increased spiritual engagement and expression of regular congregants through worship, prayer and the word; Level of congregants engagement measured as good (from 75% to 85%) | B6: 1.1 Congregants expressing and experiencing Christ-centered, vibrant and relevant worship | C6: Proportion of worship content that is Christ-centered | D6: 0.87 | E6: Keep it at at least 90% | F6: Worship team retreat & planning meeting | G6: 1 | I6: 1 | P6: =(SUM(L6:O6)/SUM(H6:K6)) -> 0 | R6: 30000 | T6: =R6-S6 -> 30000
F7: Worship team vocational training | G7: 1 | H7: 1 | P7: =(SUM(L7:O7)/SUM(H7:K7)) -> 0 | R7: 15000 | T7: =R7-S7 -> 15000
F8: Pastoral fellowship with worship team | G8: 4 | H8: 1 | I8: 1 | J8: 1 | K8: 1 | P8: =(SUM(L8:O8)/SUM(H8:K8)) -> 0 | R8: 7000 | T8: =R8-S8 -> 7000
F9: Invite vetted worship teams (honoraria) | G9: 4 | H9: 1 | I9: 1 | J9: 1 | K9: 1 | P9: =(SUM(L9:O9)/SUM(H9:K9)) -> 0 | R9: 5000 | T9: =R9-S9 -> 5000
F10: Worship team prayer retreat | G10: 1 | I10: 1 | P10: =(SUM(L10:O10)/SUM(H10:K10)) -> 0 | R10: 7000 | T10: =R10-S10 -> 7000
F11: Holy Communion every month | G11: 4 | H11: 1 | I11: 1 | J11: 1 | K11: 1 | P11: =(SUM(L11:O11)/SUM(H11:K11)) -> 0 | R11: 15000 | T11: =R11-S11 -> 15000
C12: Level of congregations responsiveness to the worship | D12: 0.63 | E12: Keep it at at least 80% | F12: Worship Experience | I12: 1 | P12: =(SUM(L12:O12)/SUM(H12:K12)) -> 0 | R12: 30000 | T12: =R12-S12 -> 30000
F13: Street worship | K13: 1 | P13: =(SUM(L13:O13)/SUM(H13:K13)) -> 0 | R13: 10000 | T13: =R13-S13 -> 10000
F14: Christmas carol service (incl catering) | K14: 1 | P14: =(SUM(L14:O14)/SUM(H14:K14)) -> 0 | R14: 25000 | T14: =R14-S14 -> 25000
F15: Worship Leaders planning meeting | G15: 1 | H15: 1 | P15: =(SUM(L15:O15)/SUM(H15:K15)) -> 0 | R15: 5000 | T15: =R15-S15 -> 5000
B16: 1.2 Congregants are increasingly engaged in fervent, continuous prayer empowered by the Holy Spirit | C16: Proportion of people engaged in fervent, continuous prayer | D16: 0.44 | E16: Keep it at at least 70% | F16: Weekly prayer service (Berean hour) | G16: 49 | H16: 11 | I16: 13 | J16: 13 | K16: 12 | P16: =(SUM(L16:O16)/SUM(H16:K16)) -> 0 | R16: 44000 | T16: =R16-S16 -> 44000
F17: Morning glory (intercessory prayers) | G17: 52 | H17: 13 | I17: 13 | J17: 13 | K17: 13 | P17: =(SUM(L17:O17)/SUM(H17:K17)) -> 0 | T17: =R17-S17 -> 0
F18: Men's prayer breakfast | G18: 8 | H18: 2 | I18: 2 | J18: 2 | K18: 2 | P18: =(SUM(L18:O18)/SUM(H18:K18)) -> 0 | R18: 20000 | S18: 10000 | T18: =R18-S18 -> 10000
F19: Congregational prayer and fasting | G19: 3 | H19: 1 | I19: 1 | J19: 1 | P19: =(SUM(L19:O19)/SUM(H19:K19)) -> 0 | T19: =R19-S19 -> 0
C20: # of prayer initiatives currently in place | F20: Prayer kesha | G20: 3 | H20: 1 | I20: 1 | J20: 1 | P20: =(SUM(L20:O20)/SUM(H20:K20)) -> 0 | R20: 20000 | T20: =R20-S20 -> 20000
F21: Cross over kesha | G21: 1 | K21: 1 | P21: =(SUM(L21:O21)/SUM(H21:K21)) -> 0 | R21: 20000 | T21: =R21-S21 -> 20000
B22: 1.3 Congregants are experienceing and responding to Christ-centred and relevent preaching and teaching | C22: Proportion of preaching and teaching that is Christ-like centred and relevant | D22: 0.92 | E22: Keep it at at least 90% | F22: Honorarium | G22: 4 | H22: 1 | I22: 1 | J22: 1 | K22: 1 | P22: =(SUM(L22:O22)/SUM(H22:K22)) -> 0 | R22: 40000 | T22: =R22-S22 -> 40000
F23: Baptism | G23: 1 | I23: 1 | P23: =(SUM(L23:O23)/SUM(H23:K23)) -> 0 | R23: 5000 | T23: =R23-S23 -> 5000
F24: Service leaders training | G24: 1 | H24: 1 | P24: =(SUM(L24:O24)/SUM(H24:K24)) -> 0 | R24: 2000 | T24: =R24-S24 -> 2000
F25: Training of ushers and welcomers | G25: 1 | I25: 1 | P25: =(SUM(L25:O25)/SUM(H25:K25)) -> 0 | R25: 33000 | S25: 12500 | T25: =R25-S25 -> 20500
F26: Pulpit flowers | G26: Half year reports | I26: 1 | K26: 1 | P26: =(SUM(L26:O26)/SUM(H26:K26)) -> 0 | R26: 30000 | T26: =R26-S26 -> 30000
F27: Purchase of fabric | G27: Half year reports | I27: 1 | K27: 1 | P27: =(SUM(L27:O27)/SUM(H27:K27)) -> 0 | R27: 20000 | T27: =R27-S27 -> 20000
F28: Sanctuary décor | G28: 4 | H28: 1 | I28: 1 | J28: 1 | K28: 1 | P28: =(SUM(L28:O28)/SUM(H28:K28)) -> 0 | R28: 40000 | T28: =R28-S28 -> 40000
F29: Sunday tea | G29: 4 | H29: 1 | I29: 1 | J29: 11 | P29: =(SUM(L29:O29)/SUM(H29:K29)) -> 0 | R29: 100000 | T29: =R29-S29 -> 100000
F30: Enhance hospitality ministry | G30: 2 | H30: 1 | J30: 1 | P30: =(SUM(L30:O30)/SUM(H30:K30)) -> 0 | R30: 25000 | T30: =R30-S30 -> 25000
C31: Level of congregation's responsiveness to the preaching and teaching
D32: 0.83 | E32: Keep it at at least 80% | T32: =R32-S32 -> 0
B33: 1.4 Congregants encountering quality ministry in every aspect of the worship service | C33: Level of quality in every aspect of the worship service | D33: 0.84 | E33: Keep it at at least 90% | T33: =R33-S33 -> 0
T34: =R34-S34 -> 0
T35: =R35-S35 -> 0
A36: There is increased spiritual maturity of regular congregants through effective discipleship, mentorship and leadership development; At least 50% of regular congregants, at any given time, who understand, communicate and live out the gospel | B36: 2.1 Congregants effectively discipled and discipling others | C36: # of congregants being discipled | D36: 0.5 | E36: 0.6 | F36: Men's convention | G36: 1 | J36: 1 | R36: 25000 | S36: 15000 | T36: =R36-S36 -> 10000
F37: Weekly HGF | G37: 49 | H37: 11 | I37: 13 | J37: 13 | K37: 12 | P37: =(SUM(L37:O37)/SUM(H37:K37)) -> 0 | T37: =R37-S37 -> 0
F38: PMCC | G38: 2 | I38: 1 | K38: 1 | P38: =(SUM(L38:O38)/SUM(H38:K38)) -> 0 | R38: 10000 | T38: =R38-S38 -> 10000
C39: # of congregants discipling others | D39: 0.46 | E39: 0.55 | F39: Parenting sessions (child dedicatio | G39: 1 | I39: 1 | P39: =(SUM(L39:O39)/SUM(H39:K39)) -> 0 | R39: 15000 | S39: 7000 | T39: =R39-S39 -> 8000
F40: HGF materials + Trainings | G40: 2 | H40: 1 | J40: 1 | P40: =(SUM(L40:O40)/SUM(H40:K40)) -> 0 | R40: 12000 | T40: =R40-S40 -> 12000
...

Sheet NBC ORongai
B1: WORKPLAN & APPRAISAL TOOL FOR NBC ONGATA RONGAI: YEAR 2022
O2: Overall achievement | P2: =AVERAGE(P6:P109) -> 0
B3: NAME OF ASSEMBLY/DEPT: ONGATA RONGAI | H3: Qtr of year | L3: Qtr of year | P3: Progress | R3: (only for Assembly/departmental workplan)
H4: Planned Implementation | L4: Actual Implementation | R4: BUDGET | T4: BUDGET Request | V4: NARRATIVE REPORT 2022 | AA4: Appraisal
A5: Goal by 2023 & Target | B5: Outcome(s) | C5: Outcome indicator(s) | D5: BASELINE 2019 | E5: TARGET 2023 | F5: 2022 Activities | G5: TARGET/ INDICATOR | H5: I | I5: II | J5: III | K5: IV | L5: I | M5: II | N5: III | O5: IV | P5: (auto-calculated) | S5: Self Funding | V5: 1ST QUARTER | W5: 2ND QUARTER | X5: 3RD QUARTER | Y5: 4TH QUARTER | AA5: SELF | AB5: SUPERVISOR
A6: There is increased spiritual engagement and expression of regular congregants through worship, prayer and the word; Level of congregants engagement measured as good (from 75% to 85%) | B6: 1.1 Congregants expressing and experiencing Christ-centered, vibrant and relevant worship | C6: Proportion of worship content that is Christ-centered | D6: 0.87 | E6: Keep it at at least 90% | F6: Invite music teams who will lead Christ-centered music (Honorarium for visitng music teams and preachers including youth service) | G6: 4 | H6: 1 | I6: 1 | J6: 1 | K6: 1 | P6: =(SUM(L6:O6)/SUM(H6:K6)) -> 0 | R6: 100000 | T6: 100000
F7: Holy Communion every month | G7: 12 | H7: 3 | I7: 3 | J7: 3 | K7: 3 | P7: =(SUM(L7:O7)/SUM(H7:K7)) -> 0 | R7: 35000 | T7: 35000
F8: Training for worship team | G8: 1 | I8: 1 | P8: =(SUM(L8:O8)/SUM(H8:K8)) -> 0
F9: Dedicate Monday's as prayer day for worship team (so as to hear from God) qtly report | G9: 4 | H9: 1 | I9: 1 | J9: 1 | K9: 1 | P9: =(SUM(L9:O9)/SUM(H9:K9)) -> 0
F10: Various expression of worship through creative arts at least once a quarter | G10: 4 | H10: 1 | I10: 1 | J10: 1 | K10: 1 | P10: =(SUM(L10:O10)/SUM(H10:K10)) -> 0
C11: Level of congregations responsiveness to the worship | D11: 0.63 | E11: Keep it at at least 80%
B13: 1.2 Congregants are increasingly engaged in fervent, continuous prayer empowered by the Holy Spirit | C13: Proportion of people engaged in fervent, continuous prayer | D13: 0.44 | E13: Keep it at at least 70% | F13: Recruit additional 7 new intercessors (from the current 8) | G13: 7 | H13: 7 | P13: =(SUM(L13:O13)/SUM(H13:K13)) -> 0
F14: Training for intercessers. | G14: 2 | H14: 1 | J14: 1 | P14: =(SUM(L14:O14)/SUM(H14:K14)) -> 0 | R14: 20000 | T14: =R14-S14 -> 20000
F15: Women praying weekly in a two-day prayer chain | G15: 48 | H15: 12 | I15: 12 | J15: 12 | K15: 12 | P15: =(SUM(L15:O15)/SUM(H15:K15)) -> 0 | T15: =R15-S15 -> 0
F16: Men meeting together every 2 weeks for prayer | G16: 26 | H16: 6 | I16: 6 | J16: 6 | P16: =(SUM(L16:O16)/SUM(H16:K16)) -> 0 | T16: =R16-S16 -> 0
F17: Youth leaders praying every Saturday morning | G17: 48 | H17: 12 | I17: 12 | J17: 12 | K17: 12 | P17: =(SUM(L17:O17)/SUM(H17:K17)) -> 0 | T17: =R17-S17 -> 0
C18: # of prayer initiatives currently in place | E18: Keep it at at least 70% | F18: Strengthen monthly 1st Sunday prayer meeting | G18: 12 | H18: 3 | I18: 3 | J18: 3 | K18: 3 | P18: =(SUM(L18:O18)/SUM(H18:K18)) -> 0 | T18: =R18-S18 -> 0
F19: Hold 48 weekly prayer meeting (Friday) | G19: 48 | H19: 12 | I19: 12 | J19: 12 | K19: 12 | P19: =(SUM(L19:O19)/SUM(H19:K19)) -> 0 | T19: =R19-S19 -> 0
F20: Hold 3 Keshas Facilitation & Hospitality (Honorarium for worship team) | G20: 2 | I20: 1 | J20: 1 | P20: =(SUM(L20:O20)/SUM(H20:K20)) -> 0 | R20: 30000 | T20: =R20-S20 -> 30000
F21: Congregational prayer and fasting in addition to global initiative | G21: 3 | I21: 1 | J21: 1 | K21: 1 | P21: =(SUM(L21:O21)/SUM(H21:K21)) -> 0 | T21: =R21-S21 -> 0
B22: 1.3 Congregants are experienceing and responding to Christ-centred and relevent preaching and teaching | C22: Proportion of preaching and teaching that is Christ-like centred and relevant | D22: 0.92 | E22: Keep it at at least 90% | F22: Invite preachers who will preach Christ-centered sermons (Honorarium for visitng music teams and preachers including youth service) | G22: 4 | H22: 1 | I22: 1 | J22: 1 | K22: 1 | P22: =(SUM(L22:O22)/SUM(H22:K22)) -> 0 | T22: =R22-S22 -> 0
F23: Training of in-house preachers | G23: 2 | H23: 1 | K23: 1 | P23: =(SUM(L23:O23)/SUM(H23:K23)) -> 0 | R23: 5000 | T23: =R23-S23 -> 5000
C24: Level of congregation's responsiveness to the preaching and teaching | D24: 0.83 | E24: Keep it at at least 80% | F24: Conduct 2 Baptism Classes and Baptism in 2021 | G24: 2 | I24: 1 | K24: 1 | P24: =(SUM(L24:O24)/SUM(H24:K24)) -> 0 | T24: =R24-S24 -> 0
F25: Regular altar calls after preaching. Report on number of people who receive Christ in the services | G25: 4 | H25: 1 | I25: 1 | J25: 1 | K25: 1 | P25: =(SUM(L25:O25)/SUM(H25:K25)) -> 0 | T25: =R25-S25 -> 0
F26: Report on testimonies from congregants out of the teachings | G26: 4 | H26: 1 | I26: 1 | J26: 1 | K26: 1 | P26: =(SUM(L26:O26)/SUM(H26:K26)) -> 0 | T26: =R26-S26 -> 0
B27: 1.4 Congregants encountering quality ministry in every aspect of the worship service | C27: Level of quality in every aspect of the worship service | D27: 0.84 | E27: Keep it at at least 90% | F27: Equipping a team of at least 15 ushers and relevant training | G27: 1 training | I27: 1 | P27: =(SUM(L27:O27)/SUM(H27:K27)) -> 0 | R27: 5000 | T27: =R27-S27 -> 5000
F28: Recruit and equip a team of 15 welcomers (one from each growth group) | G28: 1 training | H28: 1 | P28: =(SUM(L28:O28)/SUM(H28:K28)) -> 0 | R28: 5000 | T28: =R28-S28 -> 5000
F29: Re-orientation for the 15 members of the hospitality team | G29: 1 | H29: 1 | P29: =(SUM(L29:O29)/SUM(H29:K29)) -> 0 | R29: 5000 | T29: =R29-S29 -> 5000
F30: Décor. Have a décor ministry team | G30: 1 | H30: 1 | P30: =(SUM(L30:O30)/SUM(H30:K30)) -> 0 | R30: 80000 | T30: =R30-S30 -> 80000
F31: Reconstitute Holy communion ministry team | G31: 1 | H31: 1 | P31: =(SUM(L31:O31)/SUM(H31:K31)) -> 0 | T31: =R31-S31 -> 0
T32: =R32-S32 -> 0
A33: There is increased spiritual maturity of regular congregants through effective discipleship, mentorship and leadership development; At least 50% of regular congregants, at any given time, who understand, communicate and live out the gospel | B33: 2.1 Congregants effectively discipled and discipling others | C33: # of congregants being discipled | D33: 0.5 | E33: 0.6 | F33: Have at least 6 active youth Growth Groups by end of 2021 | G33: 4 new group | I33: 2 | K33: 2 | P33: =(SUM(L33:O33)/SUM(H33:K33)) -> 0 | T33: =R33-S33 -> 0
F34: Bible study materials & Facilitation - Youth ministry | G34: 4 | H34: 1 | I34: 1 | J34: 1 | K34: 1 | P34: =(SUM(L34:O34)/SUM(H34:K34)) -> 0 | R34: 36000 | S34: 5000 | T34: =R34-S34 -> 31000
F35: Effective Couples Ministry in 2022 targetting 30 couples with 3 meetings | G35: 3 | H35: 1 | I35: 1 | J35: 1 | P35: =(SUM(L35:O35)/SUM(H35:K35)) -> 0 | R35: 100000 | S35: 70000 | T35: =R35-S35 -> 30000
F36: Do 1 Parenting seminar in 2022 | G36: 1 | K36: 1 | P36: =(SUM(L36:O36)/SUM(H36:K36)) -> 0 | R36: 105000 | S36: 55000 | T36: =R36-S36 -> 50000
F37: Do 2 Child dedication in 2022 | G37: 2 | I37: 1 | K37: 1 | P37: =(SUM(L37:O37)/SUM(H37:K37)) -> 0 | R37: 10000 | S37: 10000 | T37: =R37-S37 -> 0
F38: Do 1 Family day in 2022: | G38: 1 | K38: 1 | P38: =(SUM(L38:O38)/SUM(H38:K38)) -> 0 | R38: 100000 | T38: =R38-S38 -> 100000
F39: Timely availabity of relevant Bible study Materials: Growth groups | G39: 4 | H39: 1 | I39: 1 | J39: 1 | K39: 1 | P39: =(SUM(L39:O39)/SUM(H39:K39)) -> 0 | R39: 100000 | S39: 100000 | T39: =R39-S39 -> 0
C40: # of congregants discipling others | D40: 0.46 | E40: 0.55 | F40: Have at least one session for disciplers | G40: 1 | H40: 1 | P40: =(SUM(L40:O40)/SUM(H40:K40)) -> 0 | T40: =R40-S40 -> 0
F41: Recruit disciplers for ROPES and KUPAA participants | G41: 1 | H41: 1 | P41: =(SUM(L41:O41)/SUM(H41:K41)) -> 0 | T41: =R41-S41 -> 0
...

Sheet NBC Westlands
B1: WORKPLAN & APPRAISAL TOOL FOR NBC WESTLANDS: YEAR 2022
O2: Overall achievement | P2: =AVERAGE(P6:P123) -> 0
B3: NAME OF ASSEMBLY/DEPT:Westlands | E3: NAME: | H3: Qtr of year | L3: Qtr of year | R3: (only for Assembly/departmental workplan)
H4: Planned Implementation | L4: Actual Implementation | P4: Progress | R4: BUDGET | S4: SELF FUNDING | T4: BUDGET Request | V4: NARRATIVE REPORT 2022 | AA4: Appraisal
